BEGIN:VCALENDAR
VERSION:2.0
PRODID:-//Centre de Logopédie - ECPv4.9.14//NONSGML v1.0//EN
CALSCALE:GREGORIAN
METHOD:PUBLISH
X-WR-CALNAME:Centre de Logopédie
X-ORIGINAL-URL:https://logopedie.lu
X-WR-CALDESC:Events for Centre de Logopédie
BEGIN:VTIMEZONE
TZID:Europe/Paris
BEGIN:DAYLIGHT
TZOFFSETFROM:+0100
TZOFFSETTO:+0200
TZNAME:CEST
DTSTART:20200329T010000
END:DAYLIGHT
BEGIN:STANDARD
TZOFFSETFROM:+0200
TZOFFSETTO:+0100
TZNAME:CET
DTSTART:20201025T010000
END:STANDARD
END:VTIMEZONE
BEGIN:VEVENT
DTSTART;TZID=Europe/Paris:20200328T140000
DTEND;TZID=Europe/Paris:20200328T180000
DTSTAMP:20200123T105456
CREATED:20191213T094327Z
LAST-MODIFIED:20200114T142900Z
UID:2488-1585404000-1585418400@logopedie.lu
SUMMARY:Porte ouverte
DESCRIPTION: \nVenez découvrir le Centre de Logopédie à Strassen\, le samedi 28.3.2020 de 14h à 18h. \nplus informations \n
URL:https://logopedie.lu/event/porte-ouverte/
END:VEVENT
END:VCALENDAR