BEGIN:VCALENDAR
VERSION:2.0
PRODID:-//Centre de Logopédie - ECPv4.9.14//NONSGML v1.0//EN
CALSCALE:GREGORIAN
METHOD:PUBLISH
X-WR-CALNAME:Centre de Logopédie
X-ORIGINAL-URL:https://logopedie.lu
X-WR-CALDESC:Events for Centre de Logopédie
BEGIN:VTIMEZONE
TZID:UTC
BEGIN:STANDARD
TZOFFSETFROM:+0000
TZOFFSETTO:+0000
TZNAME:UTC
DTSTART:20190101T000000
END:STANDARD
END:VTIMEZONE
BEGIN:VEVENT
DTSTART;VALUE=DATE:20190605
DTEND;VALUE=DATE:20190606
DTSTAMP:20200123T104856
CREATED:20190514T061745Z
LAST-MODIFIED:20190514T061745Z
UID:1899-1559692800-1559779199@logopedie.lu
SUMMARY:Sportsfest
DESCRIPTION:
URL:https://logopedie.lu/event/sportsfest/
LOCATION:Strassen – Centre de Logopédie\, Place Thomas Edison\, Strassen\, Luxemburg\, 1483\, Luxembourg
END:VEVENT
END:VCALENDAR