BEGIN:VCALENDAR
VERSION:2.0
PRODID:-//Centre de Logopédie - ECPv4.9.14//NONSGML v1.0//EN
CALSCALE:GREGORIAN
METHOD:PUBLISH
X-WR-CALNAME:Centre de Logopédie
X-ORIGINAL-URL:https://logopedie.lu
X-WR-CALDESC:Events for Centre de Logopédie
BEGIN:VTIMEZONE
TZID:UTC
BEGIN:STANDARD
TZOFFSETFROM:+0000
TZOFFSETTO:+0000
TZNAME:UTC
DTSTART:20190101T000000
END:STANDARD
END:VTIMEZONE
BEGIN:VEVENT
DTSTART;TZID=UTC:20190128T144500
DTEND;TZID=UTC:20190128T170000
DTSTAMP:20200123T105739
CREATED:20190123T113454Z
LAST-MODIFIED:20190123T113454Z
UID:1220-1548686700-1548694800@logopedie.lu
SUMMARY:Plan de Développement Scolaire
DESCRIPTION:Presentatioun vum Scheg (Schulentwicklungsgruppe) \nInteraktive Moment zum Thema Visioun vum Centre de Logopédie \nPresentatioun vun den Haaptziler vum PDS a vun den Zwëschenziler \nEntdecken vun allen Aktiounen/Arbechtsgruppen déi zum PDS gehéieren \nOfstëmme vun den Haaptlinnen vum PDS bis 2021 \n
URL:https://logopedie.lu/event/plan-de-developpement-scolaire/
LOCATION:Cantine scolaire\, Place Thomas Edison\, 4\, Strassen\, Luxemburg\, 1483\, Luxembourg
END:VEVENT
END:VCALENDAR