BEGIN:VCALENDAR
VERSION:2.0
PRODID:-//Centre de Logopédie - ECPv4.9.14//NONSGML v1.0//EN
CALSCALE:GREGORIAN
METHOD:PUBLISH
X-WR-CALNAME:Centre de Logopédie
X-ORIGINAL-URL:https://logopedie.lu
X-WR-CALDESC:Events for Centre de Logopédie
BEGIN:VTIMEZONE
TZID:UTC
BEGIN:STANDARD
TZOFFSETFROM:+0000
TZOFFSETTO:+0000
TZNAME:UTC
DTSTART:20190101T000000
END:STANDARD
END:VTIMEZONE
BEGIN:VEVENT
DTSTART;VALUE=DATE:20190621
DTEND;VALUE=DATE:20190622
DTSTAMP:20200123T104909
CREATED:20190514T061854Z
LAST-MODIFIED:20190514T061854Z
UID:1901-1561075200-1561161599@logopedie.lu
SUMMARY:Journée pédagogique (pas de cours au CL)
DESCRIPTION:
URL:https://logopedie.lu/event/journee-pedagogique-pas-de-cours-au-cl/
END:VEVENT
END:VCALENDAR