BEGIN:VCALENDAR
VERSION:2.0
PRODID:-//Centre de Logopédie - ECPv4.9.14//NONSGML v1.0//EN
CALSCALE:GREGORIAN
METHOD:PUBLISH
X-WR-CALNAME:Centre de Logopédie
X-ORIGINAL-URL:https://logopedie.lu
X-WR-CALDESC:Events for Centre de Logopédie
BEGIN:VTIMEZONE
TZID:UTC
BEGIN:STANDARD
TZOFFSETFROM:+0000
TZOFFSETTO:+0000
TZNAME:UTC
DTSTART:20190101T000000
END:STANDARD
END:VTIMEZONE
BEGIN:VEVENT
DTSTART;TZID=UTC:20190329T080000
DTEND;TZID=UTC:20190329T080000
DTSTAMP:20200123T105806
CREATED:20190319T082529Z
LAST-MODIFIED:20190325T071828Z
UID:1829-1553846400-1553846400@logopedie.lu
SUMMARY:INVITATION FÊTE DE PRINTEMPS
DESCRIPTION:SPECTACLE\n9 :30\nGÂTEAUX ET CAFÉ\nVENTE\nVISITE GUIDÉE DU\nBÂTIMENT \ninvitation printemps 2019 \n
URL:https://logopedie.lu/event/invitation-fete-de-printemps/
LOCATION:Strassen – Centre de Logopédie\, Place Thomas Edison\, Strassen\, Luxemburg\, 1483\, Luxembourg
END:VEVENT
END:VCALENDAR