BEGIN:VCALENDAR
VERSION:2.0
PRODID:-//Centre de Logopédie - ECPv4.9.14//NONSGML v1.0//EN
CALSCALE:GREGORIAN
METHOD:PUBLISH
X-WR-CALNAME:Centre de Logopédie
X-ORIGINAL-URL:https://logopedie.lu
X-WR-CALDESC:Events for Centre de Logopédie
BEGIN:VTIMEZONE
TZID:UTC
BEGIN:STANDARD
TZOFFSETFROM:+0000
TZOFFSETTO:+0000
TZNAME:UTC
DTSTART:20190101T000000
END:STANDARD
END:VTIMEZONE
BEGIN:VEVENT
DTSTART;TZID=UTC:20190711T113000
DTEND;TZID=UTC:20190711T160000
DTSTAMP:20200123T104942
CREATED:20190514T061953Z
LAST-MODIFIED:20190523T114231Z
UID:1903-1562844600-1562860800@logopedie.lu
SUMMARY:Fête scolaire / Schulfest
DESCRIPTION:Fete Scolaire 2019 (Invitation pdf) \nSchulfest 2019 (Einladung pdf) \nLIVE SHOW 13h00 \nTOMBOLA \nGRILL – BAR \n
URL:https://logopedie.lu/event/fete-scolaire/
LOCATION:Strassen – Centre de Logopédie\, Place Thomas Edison\, Strassen\, Luxemburg\, 1483\, Luxembourg
END:VEVENT
END:VCALENDAR