BEGIN:VCALENDAR
VERSION:2.0
PRODID:-//Centre de Logopédie - ECPv5.9.1//NONSGML v1.0//EN
CALSCALE:GREGORIAN
METHOD:PUBLISH
X-WR-CALNAME:Centre de Logopédie
X-ORIGINAL-URL:https://logopedie.lu
X-WR-CALDESC:évènements pour Centre de Logopédie
BEGIN:VTIMEZONE
TZID:Europe/Paris
BEGIN:DAYLIGHT
TZOFFSETFROM:+0100
TZOFFSETTO:+0200
TZNAME:CEST
DTSTART:20200329T010000
END:DAYLIGHT
BEGIN:STANDARD
TZOFFSETFROM:+0200
TZOFFSETTO:+0100
TZNAME:CET
DTSTART:20201025T010000
END:STANDARD
END:VTIMEZONE
BEGIN:VEVENT
DTSTART;VALUE=DATE:20200521
DTEND;VALUE=DATE:20200522
DTSTAMP:20211007T215019
CREATED:20190927T040730Z
LAST-MODIFIED:20190927T040730Z
UID:2058-1590019200-1590105599@logopedie.lu
SUMMARY:Ascension
DESCRIPTION:Pas de cours au CL
URL:https://logopedie.lu/event/ascension/
END:VEVENT
END:VCALENDAR